BEGIN:VCALENDAR
VERSION:2.0
PRODID:-//wp-events-plugin.com//6.5.4//EN
TZID:Europe/Stockholm
X-WR-TIMEZONE:Europe/Stockholm
BEGIN:VEVENT
UID:55@akashainspiratoren.se
DTSTART;TZID=Europe/Stockholm:20260417T180000
DTEND;TZID=Europe/Stockholm:20260417T204500
DTSTAMP:20260415T173005Z
URL:https://akashainspiratoren.se/events/kvallsmeditation-vid-nymane-fre-1
 7-apr-18-20-45/
SUMMARY:KVÄLLSMEDITATION VID NYMÅNE
DESCRIPTION:Den här kvällen samlas vi till en meditation med syfte att du
  ska hitta kontakten med de oändligt antal möjligheter som du har inom d
 ig för att lättare kunna välja det liv som DU vill leva. Det här är e
 n minivariant av de endagsretreater som jag erbjuder med långmeditation o
 ch coherence healing. Kanske behöver du en paus från vardagen eller kän
 ner dig sugen att prova på ett nytt sätt att meditera på. Eller så har
  du varit på ett meditationsevent hos mig online eller på plats och kän
 ner att du bara vill "fylla på".\n\nMänskligheten genomgår ett större 
 paradigmskifte med början 2025. Vi lämnar gamla sätt att fungera bakom 
 oss och går in i helt nya energier. Det blir allt tydligare under 2026 oc
 h redan 2030 kommer världen att se mycket annorlunda ut. April är en sä
 rskilt omvälvande månad för mänskligheten med energier som påverkar v
 årt kollektiva medvetande och kan vara påfrestande för våra nervsystem
 . Med den meditation vi gör lugnar vi ned nervsystemet och kliver in i h
 älsosamma mönster för oss själva och för vår omgivning.\n\nMen hur k
 an du då som person och samtidigt själ som är del av allt det gemensamm
 a lägga ditt fokus på det som tjänar dig och mänskligheten och inte p
 å det som riskerar att dra dig in i rädslostyrda mönster? Det ska vi ta
 la om och öva på när vi ses. Men en teaser är att det handlar om att f
 aktiskt en gång för alla släppa det vi kämpar med och fokusera på det
  som vi verkligen vill ha.\n\nVi ger varandra en energimässig skjuts in v
 år nya verklighet som kan följas upp med mer effektiva meditationer och 
 sätt att hantera vardagen.\n\nTider: FRE 17 APR kl 18.00-20.45. (Flytande
  inträde fram till 18.15 då dörrarna stängs för kvällen.)  Vi börj
 ar punktligt med respekt för varandra och våra spirituella vägledare.\n
 \nPlats: Fridhemsgatan 29 D\, Kungsholmen\, Stockholm. T-bana Fridhemsplan
 .\n\nDu får…\n\n 	En energihöjande miljö och tips om hur du kan tänk
 a kring det när du är i din vardag.\n 	Kort intro till manifestering med
  hjälp av kvantfysiska principer.\n 	En djuplodande\, vägledd meditation
 .\n 	Gemensamt kvällste med scones och samtal med oss andra om dina upple
 velser.\n\n...alltihop i fina lokaler - mitt i Stockholm. Det som serveras
  är vegetariskt och i huvudsak ekologiskt.\n\nMålet är...\n\n 	 Att mi
 nnas vem du är på själsnivå\, hämta tillbaka din egen kraft  och fö
 rstå varför det kan vara så transformerande. Du förstår att du kan v
 äxla tidslinje när du vill.\n\nLite praktiskt...\n\n 	Anmälan: Gör du 
 genom att köpa biljett till eventet här. Om du behöver avboka får du t
 illbaka 50 % fram till 30 dagar före eventet. För senare avbokning gäll
 er läkarintyg. Om  du får annat förhiner än sjukdom\, försöker vi l
 ösa det genom att överlåta din plats till någon annan\, om det finns n
 ågon som är beredd att ta din plats.\n\n\n 	Måltider: I biljettpriset i
 ngår kvällsfikat enligt ovan.\n 	Ev kan du behöva ta med dig en egen yo
 gamatta/liggunderlag beroende på vilken lokal vi håller till i.\n 	Den s
 om varit med på en dagsretreat IRL i år\, får 10 % på biljettpriset. D
 u behöver i så fall ta ansvar för att du har en kod när du köper din 
 biljett\, då jag inte har möjlighet att justera betalningar i efterhand 
 med nuvarande betalsystem.\n\nBegränsat antal platser. Vill du vara säke
 r på att få hänga med på denna fantastiska resa? Boka IDAG!\n\nVarmt v
 älkommen!
ATTACH;FMTTYPE=image/jpeg:https://akashainspiratoren.se/wp-content/uploads
 /2026/03/Meditationskvall2.png
CATEGORIES:EVENT
END:VEVENT
BEGIN:VTIMEZONE
TZID:Europe/Stockholm
X-LIC-LOCATION:Europe/Stockholm
BEGIN:DAYLIGHT
DTSTART:20260329T030000
TZOFFSETFROM:+0100
TZOFFSETTO:+0200
TZNAME:CEST
END:DAYLIGHT
END:VTIMEZONE
END:VCALENDAR