BEGIN:VCALENDAR
VERSION:2.0
PRODID:-//wp-events-plugin.com//6.5.4//EN
TZID:Europe/Stockholm
X-WR-TIMEZONE:Europe/Stockholm
BEGIN:VEVENT
UID:39@akashainspiratoren.se
DTSTART;TZID=Europe/Stockholm:20250114T190000
DTEND;TZID=Europe/Stockholm:20250114T203000
DTSTAMP:20250105T171957Z
URL:https://akashainspiratoren.se/events/fullmaneseans-tis-14-jan-kl-19-20
 -30-2-2-2/
SUMMARY:FULLMÅNESEANS TIS 14 januari kl 19-20.30
DESCRIPTION:Välkommen på fullmåneseans på Zoom med Akashainspiratören!
 \nFullmåneseanserna äger rum i samband med fullmåne. Vi är ofta ett an
 tal deltagare – oftast 6-10 stycken. Före paus bjuder jag in andevärld
 en att presentera en person som gått över till andra sidan och som vill 
 ha kontakt med någon i publiken. Jag beskriver det jag får till mig om p
 ersonens utseende och egenskaper och finner ut vem i publiken personen vil
 l kontakta. Om personen då blir igenkänd\, kan jag lämna ett budskap. E
 fter pausen delar jag med mig av månadens budskap från min andliga vägl
 edare\, Santillon\, och vi pratar lite om det som kommit. I slutet av sean
 sen får de deltagare som inte fått besök från andevärlden tidigare un
 der kvällen ert kort budskap via sin guide.\n\nDu får\n\n 	Uppleva hur d
 et är när någon från andra sidan vill kontakta någon i gruppen och ha
 r även möjlighet att själv få ett budskap.\n 	Månadens visdom från S
 antillon.\n 	Ett budskap från en guide om du inte redan fått ett budskap
 .\n 	En trevlig stund med mig tillsammans med andra spirituellt intressera
 de personer.\n\nPris 222 kr ink moms
ATTACH;FMTTYPE=image/jpeg:https://akashainspiratoren.se/wp-content/uploads
 /2025/01/Fullmane-i-vinterlandskap-liten-figur.jpg
CATEGORIES:Fullmåneseans
LOCATION:Online - ZOOM\, ZOOM\, online\, Sverige
X-APPLE-STRUCTURED-LOCATION;VALUE=URI;X-ADDRESS=ZOOM\, online\, Sverige;X-A
 PPLE-RADIUS=100;X-TITLE=Online - ZOOM:geo:0,0
END:VEVENT
BEGIN:VTIMEZONE
TZID:Europe/Stockholm
X-LIC-LOCATION:Europe/Stockholm
BEGIN:STANDARD
DTSTART:20241027T020000
TZOFFSETFROM:+0200
TZOFFSETTO:+0100
TZNAME:CET
END:STANDARD
END:VTIMEZONE
END:VCALENDAR