BEGIN:VCALENDAR
VERSION:2.0
PRODID:-//wp-events-plugin.com//6.5.4//EN
TZID:Europe/Stockholm
X-WR-TIMEZONE:Europe/Stockholm
BEGIN:VEVENT
UID:36@akashainspiratoren.se
DTSTART;TZID=Europe/Stockholm:20241022T190000
DTEND;TZID=Europe/Stockholm:20241022T203000
DTSTAMP:20241017T123503Z
URL:https://akashainspiratoren.se/events/fullmaneseans-man-22-okt-kl-19-20
 -30-2-3/
SUMMARY:FULLBOKAT! SEANS TIS 22 oktober kl 19-20.30
DESCRIPTION:Välkommen på seans på Zoom med Akashainspiratören!\nMånade
 ns fullmåneseans är flyttad till några dagar efter fullmåne. Vid seans
 en kommer ett budskap att förmedlas som jag kanaliserat i samband med ful
 lmånen den 17 oktober. Vi är ofta ett antal deltagare – oftast 6-10 st
 ycken. Före paus bjuder jag in andevärlden att presentera en person som 
 gått över till andra sidan och som vill ha kontakt med någon i publiken
 . Jag beskriver det jag får till mig om personens utseende och egenskaper
  och finner ut vem i publiken personen vill kontakta. Om personen då blir
  igenkänd\, kan jag lämna ett budskap. Efter pausen delar jag med mig av
  månadens budskap från min andliga vägledare\, Santillon\, och vi prata
 r lite om det som kommit. I slutet av seansen får de deltagare som inte f
 ått besök från andevärlden tidigare under kvällen ert kort budskap vi
 a sin guide.\n\nDu får\n\n 	Uppleva hur det är när någon från andra s
 idan vill kontakta någon i gruppen och har även möjlighet att själv f
 å ett budskap.\n 	Månadens visdom från Santillon.\n 	Ett budskap från 
 en guide om du inte redan fått ett budskap.\n 	En trevlig stund med mig t
 illsammans med andra spirituellt intresserade personer.\n\nPris 222 kr ink
  moms
ATTACH;FMTTYPE=image/jpeg:https://akashainspiratoren.se/wp-content/uploads
 /2024/08/Fullmane-vid-skog.jpg
CATEGORIES:Fullmåneseans
LOCATION:Online - ZOOM\, ZOOM\, online\, Sverige
X-APPLE-STRUCTURED-LOCATION;VALUE=URI;X-ADDRESS=ZOOM\, online\, Sverige;X-A
 PPLE-RADIUS=100;X-TITLE=Online - ZOOM:geo:0,0
END:VEVENT
BEGIN:VTIMEZONE
TZID:Europe/Stockholm
X-LIC-LOCATION:Europe/Stockholm
BEGIN:DAYLIGHT
DTSTART:20240331T030000
TZOFFSETFROM:+0100
TZOFFSETTO:+0200
TZNAME:CEST
END:DAYLIGHT
END:VTIMEZONE
END:VCALENDAR