BEGIN:VCALENDAR
VERSION:2.0
PRODID:-//wp-events-plugin.com//6.5.4//EN
TZID:Europe/Stockholm
X-WR-TIMEZONE:Europe/Stockholm
BEGIN:VEVENT
UID:27@akashainspiratoren.se
DTSTART;TZID=Europe/Stockholm:20241216T190000
DTEND;TZID=Europe/Stockholm:20241216T203000
DTSTAMP:20241215T190732Z
URL:https://akashainspiratoren.se/events/fullmaneseans-man-16-dec-kl-19-20
 -30/
SUMMARY:FULLMÅNESEANS MÅN 16 DEC kl 19-20.30
DESCRIPTION:Välkommen på fullmåneseans på Zoom med Akashainspiratören!
 \nOBS! Biljettfunktionen funkar inte. Om du vill vara med på seansen - me
 jla mig på ulrika@akashainspiratören.se och Swisha på nummer 1235006820
  senast söndag kväll kl 22\, så får du länk senast söndag.\n\nFullm
 åneseanserna äger rum i samband med fullmåne. Vi är ofta ett antal del
 tagare – oftast 6-10 stycken. Före paus bjuder jag in andevärlden att 
 presentera en person som gått över till andra sidan och som vill ha kont
 akt med någon i publiken. Jag beskriver det jag får till mig om personen
 s utseende och egenskaper och finner ut vem i publiken personen vill konta
 kta. Om personen då blir igenkänd\, kan jag lämna ett budskap. Efter pa
 usen delar jag med mig av månadens budskap från min andliga vägledare\,
  Santillon\, och vi pratar lite om det som kommit. I slutet av seansen få
 r de deltagare som inte fått besök från andevärlden tidigare under kv
 ällen ert kort budskap via sin guide.\n\nDu får\n\n 	Uppleva hur det är
  när någon från andra sidan vill kontakta någon i gruppen och har äve
 n möjlighet att själv få ett budskap.\n 	Månadens visdom från Santill
 on.\n 	Ett budskap från en guide om du inte redan fått ett budskap.\n 	E
 n trevlig stund med mig tillsammans med andra spirituellt intresserade per
 soner.\n\nPris 222 kr ink moms
ATTACH;FMTTYPE=image/jpeg:https://akashainspiratoren.se/wp-content/uploads
 /2024/08/Kvinna-blickar-mot-fullmane.jpg
CATEGORIES:Fullmåneseans
LOCATION:Online - ZOOM\, ZOOM\, online\, Sverige
X-APPLE-STRUCTURED-LOCATION;VALUE=URI;X-ADDRESS=ZOOM\, online\, Sverige;X-A
 PPLE-RADIUS=100;X-TITLE=Online - ZOOM:geo:0,0
END:VEVENT
BEGIN:VTIMEZONE
TZID:Europe/Stockholm
X-LIC-LOCATION:Europe/Stockholm
BEGIN:STANDARD
DTSTART:20241027T020000
TZOFFSETFROM:+0200
TZOFFSETTO:+0100
TZNAME:CET
END:STANDARD
END:VTIMEZONE
END:VCALENDAR