BEGIN:VCALENDAR
VERSION:2.0
PRODID:-//wp-events-plugin.com//6.5.4//EN
TZID:Europe/Stockholm
X-WR-TIMEZONE:Europe/Stockholm
BEGIN:VEVENT
UID:26@akashainspiratoren.se
DTSTART;TZID=Europe/Stockholm:20241115T190000
DTEND;TZID=Europe/Stockholm:20241115T203000
DTSTAMP:20240822T052409Z
URL:https://akashainspiratoren.se/events/fullmaneseans-fredag-15-nov-kl-19
 -20-30/
SUMMARY:FULLMÅNESEANS FRE 15 NOV kl 19-20.30
DESCRIPTION:Välkommen på höstens första fullmåneseans på Zoom med Aka
 shainspiratören!\nFullmåneseanserna äger rum i samband med fullmåne. V
 i är ofta ett antal deltagare – oftast 6-10 stycken. Före paus bjuder 
 jag in andevärlden att presentera en person som gått över till andra si
 dan och som vill ha kontakt med någon i publiken. Jag beskriver det jag f
 år till mig om personens utseende och egenskaper och finner ut vem i publ
 iken personen vill kontakta. Om personen då blir igenkänd\, kan jag läm
 na ett budskap. Efter pausen delar jag med mig av månadens budskap från 
 min andliga vägledare\, Santillon\, och vi pratar lite om det som kommit.
  I slutet av seansen får de deltagare som inte fått besök från andevä
 rlden tidigare under kvällen ert kort budskap via sin guide.\n\nDu får\n
 \n 	Uppleva hur det är när någon från andra sidan vill kontakta någon
  i gruppen och har även möjlighet att själv få ett budskap.\n 	Månade
 ns visdom från Santillon.\n 	Ett budskap från en guide om du inte redan 
 fått ett budskap.\n 	En trevlig stund med mig tillsammans med andra spiri
 tuellt intresserade personer.\n\nPris 222 kr ink moms
ATTACH;FMTTYPE=image/jpeg:https://akashainspiratoren.se/wp-content/uploads
 /2024/07/AdobeStock_625511689-scaled.jpeg
CATEGORIES:Fullmåneseans
LOCATION:Online - ZOOM\, ZOOM\, online\, Sverige
X-APPLE-STRUCTURED-LOCATION;VALUE=URI;X-ADDRESS=ZOOM\, online\, Sverige;X-A
 PPLE-RADIUS=100;X-TITLE=Online - ZOOM:geo:0,0
END:VEVENT
BEGIN:VTIMEZONE
TZID:Europe/Stockholm
X-LIC-LOCATION:Europe/Stockholm
BEGIN:STANDARD
DTSTART:20241027T020000
TZOFFSETFROM:+0200
TZOFFSETTO:+0100
TZNAME:CET
END:STANDARD
END:VTIMEZONE
END:VCALENDAR