BEGIN:VCALENDAR
VERSION:2.0
PRODID:-//wp-events-plugin.com//6.5.4//EN
TZID:Europe/Stockholm
X-WR-TIMEZONE:Europe/Stockholm
BEGIN:VEVENT
UID:51@akashainspiratoren.se
DTSTART;TZID=Europe/Stockholm:20260103T160000
DTEND;TZID=Europe/Stockholm:20260103T173000
DTSTAMP:20251231T133722Z
URL:https://akashainspiratoren.se/events/fullmaneevent-lor-3-jan-16-17-30/
SUMMARY:FULLMÅNEEVENT LÖR 3 JAN kl 16-17.30
DESCRIPTION:Välkommen på fullmåneevent på Zoom med Akashainspiratören!
 \nPå lördag har vi en superfullmåne igen. Världen går samtidigt in i 
 ett helt nytt energiparadigm nu. Vi behöver släppa gamla mönster som in
 te tjänar oss och sätta tydliga intentioner med vad vi vill framöver. D
 et kan kännas som en stor utmaning för många av oss. Men ju mer vi slä
 pper\, desto bättre beredda blir vi att möta det nya. Därför startar v
 i det här året med ett fullmånesevent med fokus på just det.  Jag kom
 mer att ge en kort introduktion till vad du kan förvänta dig av en hjär
 t-hjärn-koherent meditation hos mig. Därefter kommer vi att under ca 35 
 min få pröva att gå in i en alternativ tidslinje med hjälp av den för
 sta av de meditationer som jag skapat och spelat in tillsammans med musike
 rn och producenten Peter Karlsson på Xellentsounds  under hösten. Sen t
 ar vi en kort paus. Efter pausen har den som vill möjlighet att dela sina
  upplevelser från meditationen. Sedan delar jag\, som vanligt\, med mig a
 v månadens budskap från min andliga vägledare\, Santillon och i slutet
   får alla ett kort budskap från universum om sitt nya är.\n\nDu får\
 n\n 	En vägledd meditation med syfte att fördjupa koherensen mellan hjä
 rta och hjärna och lära dig kort om hur du slår in på ett spår som tj
 änar dig.\n 	Månadens visdom från Santillon.\n 	Ett kort personligt bud
 skap från en guide.\n 	En trevlig stund med mig tillsammans med andra spi
 rituellt intresserade personer.\n\nPris 333 kr ink moms
ATTACH;FMTTYPE=image/jpeg:https://akashainspiratoren.se/wp-content/uploads
 /2025/01/Fullmane-i-vinternatten.jpg
CATEGORIES:Fullmåneseans
LOCATION:Online - ZOOM\, ZOOM\, online\, Sverige
X-APPLE-STRUCTURED-LOCATION;VALUE=URI;X-ADDRESS=ZOOM\, online\, Sverige;X-A
 PPLE-RADIUS=100;X-TITLE=Online - ZOOM:geo:0,0
END:VEVENT
BEGIN:VTIMEZONE
TZID:Europe/Stockholm
X-LIC-LOCATION:Europe/Stockholm
BEGIN:STANDARD
DTSTART:20251026T020000
TZOFFSETFROM:+0200
TZOFFSETTO:+0100
TZNAME:CET
END:STANDARD
END:VTIMEZONE
END:VCALENDAR