BEGIN:VCALENDAR
VERSION:2.0
PRODID:-//wp-events-plugin.com//6.5.4//EN
TZID:Europe/Stockholm
X-WR-TIMEZONE:Europe/Stockholm
BEGIN:VEVENT
UID:14@akashainspiratoren.se
DTSTART;TZID=Europe/Stockholm:20240604T100000
DTEND;TZID=Europe/Stockholm:20240604T110000
DTSTAMP:20240531T195252Z
URL:https://akashainspiratoren.se/events/anna-test-biljett/
SUMMARY:anna test biljett
DESCRIPTION:anna test\n\ntjojo\n\nfff
CATEGORIES:Fullmåneseans
LOCATION:Online - ZOOM\, ZOOM\, online\, Sverige
X-APPLE-STRUCTURED-LOCATION;VALUE=URI;X-ADDRESS=ZOOM\, online\, Sverige;X-A
 PPLE-RADIUS=100;X-TITLE=Online - ZOOM:geo:0,0
END:VEVENT
BEGIN:VTIMEZONE
TZID:Europe/Stockholm
X-LIC-LOCATION:Europe/Stockholm
BEGIN:DAYLIGHT
DTSTART:20240331T030000
TZOFFSETFROM:+0100
TZOFFSETTO:+0200
TZNAME:CEST
END:DAYLIGHT
END:VTIMEZONE
END:VCALENDAR